BEGIN:VCALENDAR
VERSION:2.0
PRODID:-//American Classical Academy Rutherford - ECPv6.15.20//NONSGML v1.0//EN
CALSCALE:GREGORIAN
METHOD:PUBLISH
X-ORIGINAL-URL:https://rutherfordclassical.org
X-WR-CALDESC:Events for American Classical Academy Rutherford
REFRESH-INTERVAL;VALUE=DURATION:PT1H
X-Robots-Tag:noindex
X-PUBLISHED-TTL:PT1H
BEGIN:VTIMEZONE
TZID:UTC
BEGIN:STANDARD
TZOFFSETFROM:+0000
TZOFFSETTO:+0000
TZNAME:UTC
DTSTART:20250101T000000
END:STANDARD
END:VTIMEZONE
BEGIN:VEVENT
DTSTART;VALUE=DATE:20260420
DTEND;VALUE=DATE:20260502
DTSTAMP:20260424T155915
CREATED:20260423T195821Z
LAST-MODIFIED:20260423T195821Z
UID:10000027-1776643200-1777679999@rutherfordclassical.org
SUMMARY:TCAP
DESCRIPTION:
URL:https://rutherfordclassical.org/event/tcap/
END:VEVENT
BEGIN:VEVENT
DTSTART;TZID=UTC:20260512T081500
DTEND;TZID=UTC:20260512T091500
DTSTAMP:20260424T155915
CREATED:20260423T195727Z
LAST-MODIFIED:20260423T200026Z
UID:10000026-1778573700-1778577300@rutherfordclassical.org
SUMMARY:Coffee with the Head of School
DESCRIPTION:
URL:https://rutherfordclassical.org/event/coffee-with-the-head-of-school/
END:VEVENT
BEGIN:VEVENT
DTSTART;VALUE=DATE:20260521
DTEND;VALUE=DATE:20260522
DTSTAMP:20260424T155915
CREATED:20260423T195910Z
LAST-MODIFIED:20260423T195910Z
UID:10000028-1779321600-1779407999@rutherfordclassical.org
SUMMARY:Field Day
DESCRIPTION:
URL:https://rutherfordclassical.org/event/field-day/
END:VEVENT
BEGIN:VEVENT
DTSTART;VALUE=DATE:20260526
DTEND;VALUE=DATE:20260527
DTSTAMP:20260424T155915
CREATED:20260423T195928Z
LAST-MODIFIED:20260423T195928Z
UID:10000029-1779753600-1779839999@rutherfordclassical.org
SUMMARY:Awards Day
DESCRIPTION:
URL:https://rutherfordclassical.org/event/awards-day/
END:VEVENT
END:VCALENDAR