BEGIN:VCALENDAR
VERSION:2.0
PRODID:-//American Classical Academy Rutherford - ECPv6.15.20//NONSGML v1.0//EN
CALSCALE:GREGORIAN
METHOD:PUBLISH
X-WR-CALNAME:American Classical Academy Rutherford
X-ORIGINAL-URL:https://rutherfordclassical.org/es
X-WR-CALDESC:Eventos para American Classical Academy Rutherford
REFRESH-INTERVAL;VALUE=DURATION:PT1H
X-Robots-Tag:noindex
X-PUBLISHED-TTL:PT1H
BEGIN:VTIMEZONE
TZID:UTC
BEGIN:STANDARD
TZOFFSETFROM:+0000
TZOFFSETTO:+0000
TZNAME:UTC
DTSTART:20230101T000000
END:STANDARD
END:VTIMEZONE
BEGIN:VEVENT
DTSTART;VALUE=DATE:20240805
DTEND;VALUE=DATE:20240810
DTSTAMP:20260419T123717
CREATED:20240418T073141Z
LAST-MODIFIED:20240418T073141Z
UID:10000001-1722816000-1723247999@rutherfordclassical.org
SUMMARY:Teacher In Service/PD (No School for Students)
DESCRIPTION:
URL:https://rutherfordclassical.org/es/event/teacher-in-service-pd-no-school-for-students/2024-08-05/
CATEGORIES:No School
END:VEVENT
BEGIN:VEVENT
DTSTART;VALUE=DATE:20240812
DTEND;VALUE=DATE:20240813
DTSTAMP:20260419T123717
CREATED:20240418T073235Z
LAST-MODIFIED:20240418T073235Z
UID:10000009-1723420800-1723507199@rutherfordclassical.org
SUMMARY:First Day of School
DESCRIPTION:
URL:https://rutherfordclassical.org/es/event/first-day-of-school/
END:VEVENT
END:VCALENDAR