BEGIN:VCALENDAR
VERSION:2.0
PRODID:-//American Classical Academy Rutherford - ECPv6.15.20//NONSGML v1.0//EN
CALSCALE:GREGORIAN
METHOD:PUBLISH
X-WR-CALNAME:American Classical Academy Rutherford
X-ORIGINAL-URL:https://rutherfordclassical.org/es
X-WR-CALDESC:Eventos para American Classical Academy Rutherford
REFRESH-INTERVAL;VALUE=DURATION:PT1H
X-Robots-Tag:noindex
X-PUBLISHED-TTL:PT1H
BEGIN:VTIMEZONE
TZID:UTC
BEGIN:STANDARD
TZOFFSETFROM:+0000
TZOFFSETTO:+0000
TZNAME:UTC
DTSTART:20250101T000000
END:STANDARD
END:VTIMEZONE
BEGIN:VEVENT
DTSTART;TZID=UTC:20260415T081500
DTEND;TZID=UTC:20260415T091500
DTSTAMP:20260424T204351
CREATED:20260423T200746Z
LAST-MODIFIED:20260423T200800Z
UID:10000030-1776240900-1776244500@rutherfordclassical.org
SUMMARY:Coffee with the Head of School
DESCRIPTION:
URL:https://rutherfordclassical.org/es/event/coffee-with-the-head-of-school-april/
END:VEVENT
BEGIN:VEVENT
DTSTART;VALUE=DATE:20260420
DTEND;VALUE=DATE:20260502
DTSTAMP:20260424T204351
CREATED:20260423T195821Z
LAST-MODIFIED:20260423T195821Z
UID:10000027-1776643200-1777679999@rutherfordclassical.org
SUMMARY:TCAP
DESCRIPTION:
URL:https://rutherfordclassical.org/es/event/tcap/
END:VEVENT
END:VCALENDAR